BEGIN:VCALENDAR
VERSION:2.0
PRODID:-//eventon.com NONSGML v1.0//EN
CALSCALE:GREGORIAN
METHOD:PUBLISH
BEGIN:VEVENT
UID:69e88a38c280a
DTSTAMP:20260422T084336Z
DTSTART:20260602T164500Z
DTEND:20260602T174500Z
LOCATION:Cottbus Parzellenstraße 69-70\,  03050 Cottbus
SUMMARY:Spezialkurse
DESCRIPTION:Fröhlichkeit und erotische Hüftbewegungen sind das Markenzeic
 hen dieses Lateinamerikanischen Tanzes. Probiert es aus!\nhttps://www.tanzs
 chule-daniel-kara.de/aktuelles/events/test/
URL:https://www.tanzschule-daniel-kara.de/aktuelles/events/test/
END:VEVENT
END:VCALENDAR