BEGIN:VCALENDAR
VERSION:2.0
PRODID:-//eventon.com NONSGML v1.0//EN
CALSCALE:GREGORIAN
METHOD:PUBLISH
BEGIN:VEVENT
UID:69e74a00cf5c4
DTSTAMP:20260421T095720Z
DTSTART:20260422T135000Z
DTEND:20260422T145000Z
LOCATION:Forst (Lausitz) 03149 Forst (Lausitz)
SUMMARY:Erwachsene solo
DESCRIPTION:Hüftschwung und gute Laune halten Euren Körper fit. Bodyfit i
 st der Geheimtipp für Eure Vitalität.\nhttps://www.tanzschule-daniel-kara
 .de/aktuelles/events/test/
URL:https://www.tanzschule-daniel-kara.de/aktuelles/events/test/
END:VEVENT
END:VCALENDAR