BEGIN:VCALENDAR
VERSION:2.0
PRODID:-//eventon.com NONSGML v1.0//EN
CALSCALE:GREGORIAN
METHOD:PUBLISH
BEGIN:VEVENT
UID:69e74967a4289
DTSTAMP:20260421T095447Z
DTSTART:20260422T150000Z
DTEND:20260422T160000Z
LOCATION:Forst (Lausitz) 03149 Forst (Lausitz)
SUMMARY:Kids & Teens solo
DESCRIPTION:cooler Tanzspaß für Teens ab 13 Jahren\nhttps://www.tanzschul
 e-daniel-kara.de/aktuelles/events/test/
URL:https://www.tanzschule-daniel-kara.de/aktuelles/events/test/
END:VEVENT
END:VCALENDAR