BEGIN:VCALENDAR
VERSION:2.0
PRODID:-//eventon.com NONSGML v1.0//EN
CALSCALE:GREGORIAN
METHOD:PUBLISH
BEGIN:VEVENT
UID:69ea10dd5c1aa
DTSTAMP:20260423T123021Z
DTSTART:20260424T184000Z
DTEND:20260424T195000Z
LOCATION:Goyatz Dorfplatz 28\,  15913 Schwielochsee
SUMMARY:Erwachsene    paarweise
DESCRIPTION:Nur zu den Sternen fliegen ist schöner! Ihr seid nun echte Tan
 zspezialisten! Das ist ein tolles Ziel!\nhttps://www.tanzschule-daniel-kara
 .de/aktuelles/events/test/
URL:https://www.tanzschule-daniel-kara.de/aktuelles/events/test/
END:VEVENT
END:VCALENDAR